BEGIN:VCALENDAR
VERSION:2.0
PRODID:-//hacksw/handcal//NONSGML v1.0//EN
CALSCALE:GREGORIAN
BEGIN:VEVENT
ORGANIZER;CN=Drilling Tools International:MAILTO:no-reply@gcs-web.com
DTEND:
UID:4c2ade3b-4723-4850-aa41-0349e4e7aefd
DTSTAMP:1777130269
LOCATION:https://app.webinar.net/LN2ZbzZbRJ7
DESCRIPTION:Event Details https://investors.drillingtools.com/events/event-details/drilling-tools-international-1q-2026-earnings-call\n\nWebcast: https://app.webinar.net/LN2ZbzZbRJ7
URL;VALUE=URI:https://app.webinar.net/LN2ZbzZbRJ7
SUMMARY:Drilling Tools International - Drilling Tools International 1Q 2026 Earnings Call
DTSTART:20260508T140000Z
END:VEVENT
END:VCALENDAR